BEGIN:VCALENDAR
VERSION:2.0
PRODID:-//Squarespace Inc/Squarespace 6//v6//EN
BEGIN:VEVENT
UID:5edef274f52ee44e4d854ed1@squarespace.com
DTSTAMP:20200617T050320Z
DTSTART:20200731T233000Z
DTEND:20200930T002900Z
SUMMARY:Professional Advisers Event
GEO:-32.0506;115.749203
LOCATION:Fremantle Foundation
END:VEVENT
END:VCALENDAR
