BEGIN:VCALENDAR
VERSION:2.0
PRODID:-//Squarespace Inc/Squarespace 6//v6//EN
BEGIN:VEVENT
UID:5edef274f52ee44e4d854ed3@squarespace.com
DTSTAMP:20201022T012124Z
DTSTART:20201105T100000Z
DTEND:20201105T140000Z
SUMMARY:Impact100 Voting &amp\; Awards Night
END:VEVENT
END:VCALENDAR
