BEGIN:VCALENDAR
VERSION:2.0
PRODID:-//Squarespace Inc/Squarespace 6//v6//EN
BEGIN:VEVENT
UID:5edef274f52ee44e4d854ecf@squarespace.com
DTSTAMP:20200617T050618Z
DTSTART:20200531T233000Z
DTEND:20200731T003000Z
SUMMARY:Donor Event
END:VEVENT
END:VCALENDAR
